BEGIN:VCALENDAR
VERSION:2.0
PRODID:-//Long Beach Playhouse - ECPv6.8.1//NONSGML v1.0//EN
CALSCALE:GREGORIAN
METHOD:PUBLISH
X-ORIGINAL-URL:https://lbplayhouse.org
X-WR-CALDESC:Events for Long Beach Playhouse
REFRESH-INTERVAL;VALUE=DURATION:PT1H
X-Robots-Tag:noindex
X-PUBLISHED-TTL:PT1H
BEGIN:VTIMEZONE
TZID:America/Los_Angeles
BEGIN:DAYLIGHT
TZOFFSETFROM:-0800
TZOFFSETTO:-0700
TZNAME:PDT
DTSTART:20240310T100000
END:DAYLIGHT
BEGIN:STANDARD
TZOFFSETFROM:-0700
TZOFFSETTO:-0800
TZNAME:PST
DTSTART:20241103T090000
END:STANDARD
END:VTIMEZONE
BEGIN:VEVENT
DTSTART;TZID=America/Los_Angeles:20240325T190000
DTEND;TZID=America/Los_Angeles:20240328T220000
DTSTAMP:20260422T023642
CREATED:20230719T233136Z
LAST-MODIFIED:20240130T235938Z
UID:8094-1711393200-1711663200@lbplayhouse.org
SUMMARY:AUDITIONS: DETROIT ’67
DESCRIPTION:AUDITIONS: DETROIT ’67\nAUDITON NOTICE:\nTITLE: DETROIT ‘67 \nAUTHOR: Dominique Morisseau \nDIRECTOR: Robyn Hastings \nRUN:  May 18 – June 15\, 2024 \nFridays & Saturdays 8pm\, Sundays at 2pm. Special performances on Thursday and Sunday nights may be added for private parties and special events. \nThis is a volunteer community theater production.  Non-Equity.  There is no pay.  \nAUDITION DATES:\nOpen Call: \nDates: Monday\, March 25 and Tuesday\, March 26\, 2024 \n (Auditioners only need to come to one night of Open Call Auditions.) \nTimes: 7pm – 9pm \nLocation: Long Beach Playhouse   \nCallbacks: By Invitation Only. \nDate: Wednesday\, March 27\, 2024 \nTimes: 7pm – 10pm \nREHEARSALS:\nFirst Read-Through: Saturday\, March 30\, 2024\, Noon – 4pm. \nRegular Rehearsal: Starting April 1\, Monday – Thurs. 7pm – 10 pm; Saturdays 10am to 2pm\, and Sunday\,  April 28\, 5:30pm – 8:30pm. \n(Please see beginning rehearsal schedule BELOW for specific dates and times.) \nLocation: Long Beach Playhouse \nAUDITION REQUIREMENTS:\nBring headshot and resume.  \nSides for cold readings will be provided at the auditions. \nSHORT SYNOPSIS:  \n“Detroit ’67“ is a play that explores the lives of a brother and sister who run an after-hours bar in their basement during the 1967 Detroit Riots.  Chelle and Lank inherit their parents’ house and each have a different dream for their inheritance.  Lank wants to use their inheritance to buy a bar downtown\, but Chelle wants the stability the money brings. When a mysterious woman finds her way into their lives\, the siblings clash over much more than the family business. As their pent-up feelings erupt\, so does their city\, and they find themselves caught in the middle of the ’67 Detroit uprising. As tensions explode in the streets\, will Chelle and Lank be able to hold onto their fragile family ties and their ever present dreams? \n“Detroit ‘67” is originally a part of a trilogy of plays called The Detroit Project which examines the history and culture of the city of Detroit in different decades.  \nCASTING THE FOLLOWING ROLES:\nCHELLE  (F\, late 30’s to early 40’s)  Black woman. Strong\, steadfast\, firm and not easily impressed. A widow\, mother and sister. A loving heart beneath her pride.  \nLANK (Langston) (M\, early to late 30’s)  Black man. Cool\, loving and charismatic. A dreamer. He has a special effect on women – but is not a womanizer. Chelle’s younger brother. \nBUNNY (Bonita) (F\, 30’s to 40’s) Black woman. Sexy\, spunky\, fun and joyful. A friend and sometimes a lover. Never lets nothing get her down. \nSLY (Sylvester)  (M\, late 30’s to early 40’s) Black man. Hip\, slick and sweet-talking. An honest hustler and numbers man. Fiercely loyal. Lank’s best buddy. \nCAROLINE (F\, late 20’s to early 30’s) White woman. Beautiful\, quiet strength\, troubled\, soft and mysterious. There is a world of danger behind her eyes. \nBEGINNING REHEARSAL SCHEDULE:\n\n\nDetroit-67-Beg.-Reh.-Schedule-V.3Download
URL:https://lbplayhouse.org/event/auditions-detroit-67/
CATEGORIES:Auditions
ATTACH;FMTTYPE=image/jpeg:https://lbplayhouse.org/wp-content/uploads/2023/07/Detroit-67-Audition-Banner-scaled.jpg
END:VEVENT
END:VCALENDAR