BEGIN:VCALENDAR
VERSION:2.0
PRODID:-//Long Beach Playhouse - ECPv6.8.1//NONSGML v1.0//EN
CALSCALE:GREGORIAN
METHOD:PUBLISH
X-WR-CALNAME:Long Beach Playhouse
X-ORIGINAL-URL:https://lbplayhouse.org
X-WR-CALDESC:Events for Long Beach Playhouse
REFRESH-INTERVAL;VALUE=DURATION:PT1H
X-Robots-Tag:noindex
X-PUBLISHED-TTL:PT1H
BEGIN:VTIMEZONE
TZID:America/Los_Angeles
BEGIN:DAYLIGHT
TZOFFSETFROM:-0800
TZOFFSETTO:-0700
TZNAME:PDT
DTSTART:20250309T100000
END:DAYLIGHT
BEGIN:STANDARD
TZOFFSETFROM:-0700
TZOFFSETTO:-0800
TZNAME:PST
DTSTART:20251102T090000
END:STANDARD
END:VTIMEZONE
BEGIN:VEVENT
DTSTART;TZID=America/Los_Angeles:20250927T200000
DTEND;TZID=America/Los_Angeles:20250927T200000
DTSTAMP:20260423T091256
CREATED:20250306T235114Z
LAST-MODIFIED:20250927T160121Z
UID:9845-1759003200-1759003200@lbplayhouse.org
SUMMARY:VERONICA’S ROOM
DESCRIPTION:VERONICA’S ROOM\nPlaying in the Long Beach Playhouse’s Studio Theater\nAug. 30 – Sept. 27\, 2025\nBy Ira Levin\nDirected by Gregory Cohen\nFrom Ira Levin\, author of Rosemary’s Baby and Deathtrap\, comes this chilling mystery thriller that explores the thin line between reality and fantasy. Students Susan and Larry find themselves enticed to a mysterious mansion by its dissolute caretakers. Struck by Susan’s strong resemblance to Veronica\, the long-dead daughter of the family they work for\, the older couple induce her to impersonate the dead woman to give solace to their employer\, Veronica’s addled sister\, who believes she’s still alive. Dressed in her clothes\, Susan finds herself locked in Veronica’s room and in her role. Or is she Veronica\, in 1935\, pretending to be an imaginary Susan? \nPURCHASE YOUR TICKETS HERE:\nCHOOSE YOUR DATE:\n\nFriday\, September 26\, 8pm\nSaturday\, September 27\, 8pm – Closing Night\n\nPLEASE NOTE: The Studio Theater is on the 2nd Floor. Due to the age of our building\, there is no elevator and the theater is only accessible by stairs. \nAGE LIMIT \nAs a courtesy to our patrons\, it is the policy of the theatre not to admit children under the age of 5. This policy may be altered from time to time based on shows and show content. \nThis Show Contains:\nIntense Adult Themes and Content that Deal with Extremely Dark\, Past Traumas. \nAct One is Approx. 45 mins.\nThere will be a 15 Minute Intermission\nAct Two is Approx. 55 mins.\n\n\nThank You to The Port of Long Beach for Sponsoring our Opening Night Gala! \n\n\n\n\n\n\nPREVIEW CLIP:\n \nPERFORMANCE PHOTOS:\n\n			\n				\n			\n				\n				VERONICA’S ROOM (STUDIO\, Aug. 30 – Sept. 27\, 2025)\nPHOTO 1: Cassandra Angerosa-Korrie (THE GIRL)\, Andrea Stradling (THE WOMAN)\, Noah Wagner (THE MAN)\n(Michael Hardy Photography)\n				\n			\n				\n			\n				\n				VERONICA’S ROOM (STUDIO\, Aug. 30 – Sept. 27\, 2025)\nPHOTO 2: Cassandra Angerosa-Korrie (THE GIRL)\, Charlie Rodriguez (THE YOUNG MAN)\n(Michael Hardy Photography)\n				\n			\n				\n			\n				\n				VERONICA’S ROOM (STUDIO\, Aug. 30 – Sept. 27\, 2025)\nPHOTO 3: Charlie Rodriguez (THE YOUNG MAN)\, Cassandra Angerosa-Korrie (THE GIRL)\, Andrea Stradling (THE WOMAN)\n(Michael Hardy Photography)\n				\n			\n				\n			\n				\n				VERONICA’S ROOM (STUDIO\, Aug. 30 – Sept. 27\, 2025)\nPHOTO 4: Charlie Rodriguez (THE YOUNG MAN)\, Andrea Stradling (THE WOMAN)\, Cassandra Angerosa-Korrie (THE GIRL)\n(Michael Hardy Photography)\n				\n			\n				\n			\n				\n				VERONICA’S ROOM (STUDIO\, Aug. 30 – Sept. 27\, 2025)\nPHOTO 5: Charlie Rodriguez (THE YOUNG MAN)\, Noah Wagner (THE MAN)\n(Michael Hardy Photography)\n\n				\n			\n				\n			\n				\n				VERONICA’S ROOM (STUDIO\, Aug. 30 – Sept. 27\, 2025)\nPHOTO 6: Noah Wagner (THE MAN)\n(Michael Hardy Photography)\n				\n			\n				\n			\n				\n				VERONICA’S ROOM (STUDIO\, Aug. 30 – Sept. 27\, 2025)\nPHOTO 7: Cassandra Angerosa-Korrie (THE GIRL)\, Charlie Rodriguez (THE YOUNG MAN)\n(Michael Hardy Photography)\n				\n			\n				\n			\n				\n				VERONICA’S ROOM (STUDIO\, Aug. 30 – Sept. 27\, 2025)\nPHOTO 8: Andrea Stradling (THE WOMAN)\, Cassandra Angerosa-Korrie (THE GIRL)\n(Michael Hardy Photography)\n				\n			\n				\n			\n				\n				VERONICA’S ROOM (STUDIO\, Aug. 30 – Sept. 27\, 2025)\nPHOTO 9: Andrea Stradling (THE WOMAN)\n(Michael Hardy Photography)\n\n				\n			\n				\n			\n				\n				VERONICA’S ROOM (STUDIO\, Aug. 30 – Sept. 27\, 2025)\nPHOTO 10: Cassandra Angerosa-Korrie (THE GIRL)\n(Michael Hardy Photography)\n				\n			\n				\n			\n				\n				VERONICA’S ROOM (STUDIO\, Aug. 30 – Sept. 27\, 2025)\nPHOTO 11: Noah Wagner (THE MAN)\, Cassandra Angerosa-Korrie (THE GIRL)\n(Michael Hardy Photography)\n\n				\n			\n				\n			\n				\n				VERONICA’S ROOM (STUDIO\, Aug. 30 – Sept. 27\, 2025)\nPHOTO 12: Andrea Stradling (THE WOMAN)\, Noah Wagner (THE MAN)\n(Michael Hardy Photography)\n				\n			\n				\n			\n				\n				VERONICA’S ROOM (STUDIO\, Aug. 30 – Sept. 27\, 2025)\nPHOTO 13: Andrea Stradling (THE WOMAN)\, Cassandra Angerosa-Korrie (THE GIRL)\n(Michael Hardy Photography)\n				\n			\n				\n			\n				\n				VERONICA’S ROOM (STUDIO\, Aug. 30 – Sept. 27\, 2025)\nPHOTO 14: Charlie Rodriguez (THE YOUNG MAN)\, Cassandra Angerosa-Korrie (THE GIRL)\, Andrea Stradling (THE WOMAN)\, Noah Wagner (THE MAN)\n(Michael Hardy Photography)\n				\n		\n\nCAST:\n\nAndrea Stradling (THE WOMAN)\nNoah Wagner (THE MAN)\nCassandra Angerosa-Korrie (THE GIRL)\nCharlie Rodriguez (THE YOUNG MAN)
URL:https://lbplayhouse.org/event/veronicas-room/
CATEGORIES:Studio Theatre
ATTACH;FMTTYPE=image/jpeg:https://lbplayhouse.org/wp-content/uploads/2025/03/Veronicas-Room-Event-Banner-scaled.jpg
END:VEVENT
END:VCALENDAR