BEGIN:VCALENDAR
VERSION:2.0
PRODID:-//Long Beach Playhouse - ECPv6.8.1//NONSGML v1.0//EN
CALSCALE:GREGORIAN
METHOD:PUBLISH
X-ORIGINAL-URL:https://lbplayhouse.org
X-WR-CALDESC:Events for Long Beach Playhouse
REFRESH-INTERVAL;VALUE=DURATION:PT1H
X-Robots-Tag:noindex
X-PUBLISHED-TTL:PT1H
BEGIN:VTIMEZONE
TZID:America/Los_Angeles
BEGIN:DAYLIGHT
TZOFFSETFROM:-0800
TZOFFSETTO:-0700
TZNAME:PDT
DTSTART:20250309T100000
END:DAYLIGHT
BEGIN:STANDARD
TZOFFSETFROM:-0700
TZOFFSETTO:-0800
TZNAME:PST
DTSTART:20251102T090000
END:STANDARD
END:VTIMEZONE
BEGIN:VEVENT
DTSTART;TZID=America/Los_Angeles:20251103T080000
DTEND;TZID=America/Los_Angeles:20251130T170000
DTSTAMP:20260423T091913
CREATED:20251009T171108Z
LAST-MODIFIED:20251201T194154Z
UID:10192-1762156800-1764522000@lbplayhouse.org
SUMMARY:Staff & Friends Cabaret Submissions!
DESCRIPTION:The Staff & Friends Cabaret has been getting bigger and bigger the past few years! Before completing our form\, please be sure to read through all the information below! \n\n\n\nShow Dates: Friday February 13th\, 2026 & Saturday February 14th\, 2026 \n\n\n\nThe show will consist of two big group numbers and individual acts showcasing our talented staff and performers at the playhouse. The event will also have a raffle and fundraising drive. \n\n\n\nWe are anticipating a large amount of submissions this year. Too many to fit into two nights!  Due to this\, we will be casting for individual acts. We may follow up or ask more information about your individual act when making our selections. We may not be able to accommodate everyone who submits for an individual act\, but everyone is welcome to join the group numbers. \n\n\n\nPerformers can be involved in a number of ways:  \n\n\n\n(1) Participate in 2 big group numbers for the show\, \n\n\n\n(2) Perform an individual act: It can be a song\, monologue\, dance\, hidden talents\, anything you want! It can be just be you\, a duet\, or a group \n\n\n\n(3) All of the above. \n\n\n\nPerformers (and other friends of the playhouse) can also help with donations or volunteer on the day of the event. \n\n\n\nTo participate as a performer:  \n\n\n\n(1) Performers must have participated in at least one LBP produced show \n\n\n\n(2) Individual act performers need to be available for the following rehearsal dates: Tech Week (Feb. 9th thru 12th in the evening)\, Show Dates (Feb. 13th and 14th) \n\n\n\n(3) Group number performers need to be available for the above dates along with group rehearsals: Saturdays Jan. 3rd thru Feb. 7th. Conflicts with multiple group rehearsal dates will be taken into account when assigning solos in group numbers. \n\n\n\n \n\n\n\nIf you have questions that you would like answered before you fill out your submission form please reach out to LBP Executive Director Madison Mooney at 562-494-1014 ext 503 or Madison@LBPlayhouse.org \n\n\n\nSubmissions will close at end of day on November 30th. Late submissions for Individual Acts will not be accepted.  \n\n\n\nSubmissions have closed
URL:https://lbplayhouse.org/event/staff-friends-cabaret-submissions/
CATEGORIES:Auditions
ATTACH;FMTTYPE=image/jpeg:https://lbplayhouse.org/wp-content/uploads/2025/10/SandFLogo.jpg
END:VEVENT
BEGIN:VEVENT
DTSTART;TZID=America/Los_Angeles:20251103T200000
DTEND;TZID=America/Los_Angeles:20251105T200000
DTSTAMP:20260423T091913
CREATED:20250821T202304Z
LAST-MODIFIED:20251103T195613Z
UID:10125-1762200000-1762372800@lbplayhouse.org
SUMMARY:AUDITIONS: Agatha Christie's GO BACK FOR MURDER
DESCRIPTION:AUDITIONS: Agatha Christie’s GO BACK FOR MURDER\nPlaying in the Long Beach Playhouse’s Mainstage Theater\nBy Agatha Christie\nDirected by Philip Brickey\nAUDITION DATES:  November 3 – 5\, 2025\n\nMonday\, Nov.  3\, 2025 – 7pm – 9pm: Open Call\nTuesday\,  Nov. 4\, 2025 – 7pm – 9pm: Open Call\nWednesday\,  Nov. 5\, 2025 – 7pm – 10pm: Callbacks – By invitation only.\n\n(Auditioners only need to come to one night of open call auditions.  We are only seeing in-person auditioners during audition times – no video submissions.) \nPERFORMANCE DATES:  Jan. 10 – Feb. 7\, 2026\nAUDITION NOTICE:\nTITLE: GO BACK FOR MURDER \nAUTHOR: Agatha Christie \nDIRECTOR: Philip Brickey \nRUN: January 10 to February 7\, 2026 \nFridays & Saturdays at 8pm\, Sundays at 2pm. Special performances on Thursday and Sunday nights may be added for private parties and special events. \nThis is a volunteer community theater production.  Non-Equity.  There is no pay.  \nAUDITION DATES:\nOpen Call: Dates: Monday\, November 3 and Tuesday\, November 4\, 2025  \n(Auditioners only need to come to one night of Open Call Auditions.) \nTimes: 7pm – 9pm \nLocation: Long Beach Playhouse   \nCallbacks: By Invitation Only. \nDate: Wednesday\, November 5\, 2025. \nTimes: 7pm – 10pm \nREHEARSALS:\nFirst Read-Through: Saturday\, November 8\, Noon to 4 pm. \nRegular Rehearsal: Starting Monday\, November 10\, regular rehearsals will be Monday through Thursday\, 7pm -10 pm\, and Saturdays\, 1pm – 4 pm. \n(Please see beginning rehearsal schedule BELOW for specific dates and times.) \nLocation: Long Beach Playhouse \nNOTE: Open to working with some limited minor conflicts\, but we will not be casting people with conflicts on tech dates and performances. \nAUDITION REQUIREMENTS:\nBring headshot and resume.  \nSides for cold readings will be provided at the auditions. \nSIDES AVAILABLE BELOW \nFor specified roles\, a British dialect is encouraged at auditions but not required.  Time will be spent during rehearsals to work on the British dialect. \nSHORT SYNOPSIS:  \nAgatha Christie turns back the clock with this unique take on a murder mystery. After receiving a letter from beyond the grave\, Carla Crale believes her mother\, who died in prison\, was wrongly convicted of her father’s murder. In a passionate attempt to clear her mother’s name\, Carla persuades those present on the day of her father’s death to return to the scene of the crime and ‘go back’ 16 years to relive their version of events. \nCASTING THE FOLLOWING ROLES:\nNOTE: All roles are open to all ethnicities. \nSome actors will play their characters in two different decades. \nSome actors may play multiple roles. \nJUSTIN FOGG (M\, 25-35). Solicitor in the office of Fogg\, Fogg\, Bamfylde and Fogg. Sober and serious. Doting at times. (Role has a British dialect.) \nCARLA LE MARCHANT (F\, CANADIAN\, 20-35 TO PLAY 21). Passionate\, persuasive and dead set on proving her mother’s innocence. Also plays Caroline Crale\, her mother. \nWill also double as: \nCAROLINE CRALE (F\, 25-35). Married to Amyas. A formidable woman. Deeply in love with her husband\, she fights to keep him. Also plays Carla Crale\, her daughter. (Role has a British dialect.) \nJEFF ROGERS (M\, CANADIAN\, 25-40). Carla’s fiancé. A slick\, self-satisfied\, good-looking man. Insensitive to others. \nWill also double as: \nAMYAS CRALE (M\, 35-45). The artist. He is unashamedly self-absorbed\, yet charismatic and likeable. (Role has a British dialect.) \nPHILLIP BLAKE (M\, 25-40 AND 40-55). Amyas Crale’s devoted friend. Self-important with traces of nervous irritability. He is very sure of himself. (Role has a British dialect.) \nMEREDITH BLAKE (M\, 25-40 AND 40-55). Phillip’s older brother. A sweet man. At times ineffectual and irresolute. (Role has a British dialect.)  \nWill also double as: \nTURNBALL. (M\, 60-75). Elderly clerk in the law office. Dry and reserved. (Role has a British dialect.) \nELSA GREER/LADY MELKSHAM (F\, 20-30 AND 30-45). The “other” woman. Attractive and alluring. Cold at times. She knows what she wants. (Role has a British dialect.) \nMISS WILLIAMS (F\, 35-45 AND 50-60). The nanny. She is intelligent\, reserved and quietly commanding. (Role has a British dialect.) \nANGELA WARREN (F\, 30 AND 14). Caroline Crale’s half-sister. Emotionally volatile as a child. Self-assured as an adult. (Role has a British dialect.) \nBEGINNING REHEARSAL SCHEDULE:\n\n\nGo Back for Murder Beg. Reh. Schedule V.4Download\n\n\nAUDITION SIDES:\n\n\nGo Back for Murder Sides (Updated)Download
URL:https://lbplayhouse.org/event/auditions-agatha-christies-go-back-for-murder/
CATEGORIES:Auditions
ATTACH;FMTTYPE=image/jpeg:https://lbplayhouse.org/wp-content/uploads/2025/08/Go-Back-for-Murder-Audition-Banner-scaled.jpg
END:VEVENT
END:VCALENDAR