BEGIN:VCALENDAR
VERSION:2.0
PRODID:-//Long Beach Playhouse - ECPv6.8.1//NONSGML v1.0//EN
CALSCALE:GREGORIAN
METHOD:PUBLISH
X-ORIGINAL-URL:https://lbplayhouse.org
X-WR-CALDESC:Events for Long Beach Playhouse
REFRESH-INTERVAL;VALUE=DURATION:PT1H
X-Robots-Tag:noindex
X-PUBLISHED-TTL:PT1H
BEGIN:VTIMEZONE
TZID:America/Los_Angeles
BEGIN:DAYLIGHT
TZOFFSETFROM:-0800
TZOFFSETTO:-0700
TZNAME:PDT
DTSTART:20260308T100000
END:DAYLIGHT
BEGIN:STANDARD
TZOFFSETFROM:-0700
TZOFFSETTO:-0800
TZNAME:PST
DTSTART:20261101T090000
END:STANDARD
END:VTIMEZONE
BEGIN:VEVENT
DTSTART;TZID=America/Los_Angeles:20260111T140000
DTEND;TZID=America/Los_Angeles:20260111T160000
DTSTAMP:20260421T013857
CREATED:20251113T000110Z
LAST-MODIFIED:20260119T205606Z
UID:10283-1768140000-1768147200@lbplayhouse.org
SUMMARY:THE CLUB OF BROKEN FASTS
DESCRIPTION:The Studio Collaborative: THE CLUB OF BROKEN FASTS\nCompany: ADDSSP Inc.\, Dina Cataldi\, Producer\nDates: Jan. 9\, 10 @ 8pm\, Jan. 11 @ 2pm\, 2026\nTickets: $30\, Students $20\n(All online ticket purchases are subject to a $4 service charge.  No service charge is applied to tickets purchased in-person or by phone through our Box Office.) \nBUY YOUR TICKETS HERE\nCHOOSE YOUR DATE:\nTHIS PRODUCTION CLOSED JAN. 11\, 2026 \nThis Collaborative Show has assigned seating which can be chosen when purchasing tickets. \nPLEASE NOTE: The Studio Theater is on the 2nd Floor. Due to the age of our building\, there is no elevator and the theater is only accessible by stairs. \n \nDescription: \n\n\n\n\nThe Club of Broken Fasts is a madcap take on the 1985 John Hughes classic\, rendered in Shakespearian verse. You know the story: Brian the Brain\, Claire the Princess\, Andrew the Jock\, Allison the Madwoman\, and Bender the Wretch are all stuck in Saturday detention under the not-entirely-benign watch of Vice Principal Vernon. Together\, they spend the day joking\, musing\, fighting\, kissing\, flouting authority\, and\, hopefully\, growing up. Through elevated language and spectacular design melding iconic ’80s looks with Elizabethan sensibilities\, The Club of Broken Fasts transforms this classic coming-of-age tale into a dramatic stage comedy fit for the Globe itself! \n\nOr if you prefer\, in verse: \nIt’s forty years since first we came to see \nThe work of teen movie auteur John Hughes. \nSee it re-writ in verse\, with endless glee! \nYou know the story\, though the words are new: \nBrain\, princess\, jock\, madwoman\, and a wretch\, \nOne Saturday\, sit in their school detain’d; \nAnd\, ere the strike of four\, all rules reject\, \nTheir secrets\, nay\, their very souls laid plain. \nBut one day’s liv’d within our humble show\, \nYet in that day\, such marvels come to pass \nThat something more of life you’ll come to know \nWhen you behold the Club of Broken Fasts! \n\n\n\nThe LBP Studio Collaborative Season offers outside\, local theatre companies and performing arts organizations the opportunity to produce their own shows in our Studio Theater.
URL:https://lbplayhouse.org/event/the-club-of-broken-fasts/
CATEGORIES:Studio Theatre
ATTACH;FMTTYPE=image/jpeg:https://lbplayhouse.org/wp-content/uploads/2025/12/The-Club-of-Broken-Fasts-Studio-Collaborative-Banner-3.jpg
END:VEVENT
END:VCALENDAR