BEGIN:VCALENDAR
VERSION:2.0
PRODID:-//Long Beach Playhouse - ECPv6.8.1//NONSGML v1.0//EN
CALSCALE:GREGORIAN
METHOD:PUBLISH
X-ORIGINAL-URL:https://lbplayhouse.org
X-WR-CALDESC:Events for Long Beach Playhouse
REFRESH-INTERVAL;VALUE=DURATION:PT1H
X-Robots-Tag:noindex
X-PUBLISHED-TTL:PT1H
BEGIN:VTIMEZONE
TZID:America/Los_Angeles
BEGIN:DAYLIGHT
TZOFFSETFROM:-0800
TZOFFSETTO:-0700
TZNAME:PDT
DTSTART:20190310T100000
END:DAYLIGHT
BEGIN:STANDARD
TZOFFSETFROM:-0700
TZOFFSETTO:-0800
TZNAME:PST
DTSTART:20191103T090000
END:STANDARD
END:VTIMEZONE
BEGIN:VEVENT
DTSTART;TZID=America/Los_Angeles:20190304T190000
DTEND;TZID=America/Los_Angeles:20190306T220000
DTSTAMP:20260423T160703
CREATED:20190214T230041Z
LAST-MODIFIED:20190225T231903Z
UID:4370-1551726000-1551909600@lbplayhouse.org
SUMMARY:AUDITIONS: PURSUED BY A BEAR
DESCRIPTION:AUDITION NOTICE\nTITLE: EXIT\, PURSUED BY A BEAR \nAUTHOR: Lauren Gunderson \nDIRECTOR: James Rice \nRUN:  April 27\, 2019 – May 25\, 2019 \nFridays & Saturdays 8pm\, Sundays at 2pm. Special performances on Thursday and Sunday nights may be added for private parties and special events. \nThis is a community theater production.  Non-Equity.  There is no pay.  \nAUDITION DATES:\nOpen Call: \nDates: Monday\, March 4 & Tuesday\, March 5\, 2019   \nTimes: 7pm – 9pm \nLocation: Long Beach Playhouse   \nCallbacks: \nDate and Time: Wednesday\, March 6\, 2019\, 7pm – 10pm\, by invitation only. \nREHEARSALS:\nFirst Read-Through: March 9\, 2019 Noon – 3 p.m. \nRegular Rehearsal: Starting March 11\, 2019\, Mondays – Thursdays\, 7:30pm – 10:30pm\,  Saturdays\, 10am – 3pm. \nLocation: Long Beach Playhouse \nLINK TO BEGINNING REHEARSAL SCHEDULE\n  \nAUDITION REQUIREMENTS:\nBring headshot and resume. Sides for cold readings will be provided at the auditions. \nYou can read the play for free at the Playscripts\, Inc.’s website: https://www.playscripts.com/play/2416# \nSHORT SYNOPSIS:  \nNan has decided to teach her abusive husband Kyle a lesson. With the help of her friend Simon (acting as her emotional — and actual — cheerleader) and a stripper named Sweetheart\, she tapes Kyle to a chair and forces him to watch as they reenact scenes from their painful past. In the piece de resistance\, they plan to cover the room in meat and honey so Kyle will be mauled by a bear. Through this night of emotional trials and ridiculous theatrics\, Nan and Kyle are both freed from their past in this smart\, dark revenge comedy. \nCASTING THE FOLLOWING ROLES:\nAll characters sing with a Georgia dialect. All ethnicities welcome. \nNAN CARTER (F\, 27-35) Pretty and quick. Determined to end the abuse in her life. (Character has a Georgia dialect and must be able to sing Karaoke to Jefferson Starship “ Nothing Gonna Stop Us Now.”) \nKYLE CARTER (M\, 27 – 37)  Big\, messy. Not the sharpest tool in the shed. (Character has a Georgia dialect.) \nSWEETHEART/PEACHES/SUPERKYLE (F\, 20 -25) Plays all three parts. Functions as Kyle in re-enactments but hotter.  (Character has a Georgia dialect and must be able to sing Karaoke to Jefferson Starship “ Nothing Gonna Stop Us Now.”) \nSIMON BEAUFORT (M\, 20s) Gay\, pretty\, strong\, and bitchy. Cat-like in movement. Wears girl’s red cheerleading outfit for a time. (Character has a Georgia dialect and must be able to sing Karaoke to Jefferson Starship “ Nothing Gonna Stop Us Now.”)
URL:https://lbplayhouse.org/event/auditions-pursued-by-a-bear/
CATEGORIES:Auditions
ATTACH;FMTTYPE=image/jpeg:https://lbplayhouse.org/wp-content/uploads/2019/02/ExitBear-Audition-Regular-Event-Banner-2.jpg
END:VEVENT
END:VCALENDAR