BEGIN:VCALENDAR
VERSION:2.0
PRODID:-//Long Beach Playhouse - ECPv6.8.1//NONSGML v1.0//EN
CALSCALE:GREGORIAN
METHOD:PUBLISH
X-ORIGINAL-URL:https://lbplayhouse.org
X-WR-CALDESC:Events for Long Beach Playhouse
REFRESH-INTERVAL;VALUE=DURATION:PT1H
X-Robots-Tag:noindex
X-PUBLISHED-TTL:PT1H
BEGIN:VTIMEZONE
TZID:America/Los_Angeles
BEGIN:DAYLIGHT
TZOFFSETFROM:-0800
TZOFFSETTO:-0700
TZNAME:PDT
DTSTART:20260308T100000
END:DAYLIGHT
BEGIN:STANDARD
TZOFFSETFROM:-0700
TZOFFSETTO:-0800
TZNAME:PST
DTSTART:20261101T090000
END:STANDARD
END:VTIMEZONE
BEGIN:VEVENT
DTSTART;TZID=America/Los_Angeles:20260419T200000
DTEND;TZID=America/Los_Angeles:20260502T200000
DTSTAMP:20260425T074108
CREATED:20250731T225418Z
LAST-MODIFIED:20260420T195020Z
UID:10093-1776628800-1777752000@lbplayhouse.org
SUMMARY:HARVEY
DESCRIPTION:HARVEY\nPlaying in the Long Beach Playhouse’s Mainstage Theater\nApril 4 – May 2\, 2026\nBy Mary Chase\nDirected by Bob Fetes\nIn this popular comedy from the golden age of Broadway\, the kindly Elwood P. Dowd insists on including his friend Harvey in all of his sister Veta’s social gatherings. Trouble is\, Harvey is an imaginary\, six-and-a-half-foot-tall rabbit. To avoid further family embarrassment\, Veta decides to have Elwood committed to a sanitarium. Yet her frantic explanations of the situation to the doctors get her mistakenly committed instead of her mild-mannered brother. When Elwood arrives at the sanitarium looking for Harvey\, hilarity ensues in this gentle comedy about the acceptance of the ones we love and the fact that the truth can’t always be “seen.” \nPURCHASE YOUR TICKETS HERE:\nCHOOSE YOUR DATE:\n\nFriday\, April 24\, 2026\, 8pm\nSaturday\, April 25\, 2026\, 8pm\nSunday\, April 26\, 2026\, 2pm\nFriday\, May 1\, 2026\, 8pm\nSaturday\, May 2\, 2026\, 8pm – Closing Night\n\nAGE LIMIT \nAs a courtesy to our patrons\, it is the policy of the theatre not to admit children under the age of 5. This policy may be altered from time to time based on shows and show content. \nThis Show Contains:\n\nSimulated Smoking\nFlashing and Pulsing Lights\n\nAct One is Approx. 1 hr. 5 mins.\nThere will be a 15 Minute Intermission\nAct Two is Approx. 1 hr. 10mins\n\n\nA big THANK YOU to The Port of Long Beach for sponsoring our Opening Night Gala! \n\n\n\n\n\n\nPREVIEW CLIP:\n \nPERFORMANCE  PHOTOS:\n\n			\n				\n			\n				\n				HARVEY (MAINSTAGE\, April 4 – May 2\, 2026)\nPHOTO 1: Talitha Barkow (MYRTLE MAE SIMMONS)\, Judy Jones (MRS. CHAUVENET)\, Harriet Whitmyer (VETA LOUISE SIMMONS)\n(Michael Hardy Photography)\n				\n			\n				\n			\n				\n				HARVEY (MAINSTAGE\, April 4 – May 2\, 2026)\nPHOTO 2: Harvey (HARVEY)\, Tod Walker (ELWOOD P. DOWD)\n(Michael Hardy Photography)\n				\n			\n				\n			\n				\n				HARVEY (MAINSTAGE\, April 4 – May 2\, 2026)\nPHOTO 3: Jill Prout (RUTH KELLY\, R.N.)\, Tod Walker (ELWOOD P. DOWD)\n(Michael Hardy Photography)\n				\n			\n				\n			\n				\n				HARVEY (MAINSTAGE\, April 4 – May 2\, 2026)\nPHOTO 4: Aaron Izbicki (LYMAN SANDERSON\, M.D.)\, Jill Prout (RUTH KELLY\, R.N.)\, Robb Tracy (WILLIAM R. CHUMLEY\, M.D.)\n(Michael Hardy Photography)\n				\n			\n				\n			\n				\n				HARVEY (MAINSTAGE\, April 4 – May 2\, 2026)\nPHOTO 5: Aaron Izbicki (LYMAN SANDERSON\, M.D.)\, Jill Prout (RUTH KELLY\, R.N.)\n(Michael Hardy Photography)\n\n				\n			\n				\n			\n				\n				HARVEY (MAINSTAGE\, April 4 – May 2\, 2026)\nPHOTO 6: Jill Prout (RUTH KELLY\, R.N.)\, Demetri Mack (DUANE WILSON)\n(Michael Hardy Photography)\n				\n			\n				\n			\n				\n				HARVEY (MAINSTAGE\, April 4 – May 2\, 2026)\nPHOTO 7: Patrick Frazier (JUDGE OMAR GAFFNEY)\, Harriet Whitmyer (VETA LOUISE SIMMONS)\, Talitha Barkow (MYRTLE MAE SIMMONS)\n(Michael Hardy Photography)\n				\n			\n				\n			\n				\n				HARVEY (MAINSTAGE\, April 4 – May 2\, 2026)\nPHOTO 8: Demetri Mack (DUANE WILSON)\, Talitha Barkow (MYRTLE MAE SIMMONS)\n(Michael Hardy Photography)\n				\n			\n				\n			\n				\n				HARVEY (MAINSTAGE\, April 4 – May 2\, 2026)\nPHOTO 9: Tod Walker (ELWOOD P. DOWD)\n(Michael Hardy Photography)\n				\n			\n				\n			\n				\n				HARVEY (MAINSTAGE\, April 4 – May 2\, 2026)\nPHOTO 10: Demetri Mack (DUANE WILSON)\, Aaron Izbicki (LYMAN SANDERSON\, M.D.)\, Jill Prout (RUTH KELLY\, R.N.)\, Tod Walker (ELWOOD P. DOWD)\n(Michael Hardy Photography)\n				\n			\n				\n			\n				\n				HARVEY (MAINSTAGE\, April 4 – May 2\, 2026)\nPHOTO 11: Robb Tracy (WILLIAM R. CHUMLEY\, M.D.)\, Tod Walker (ELWOOD P. DOWD)\n(Michael Hardy Photography)\n				\n			\n				\n			\n				\n				HARVEY (MAINSTAGE\, April 4 – May 2\, 2026)\nPHOTO 12: Harriet Whitmyer (VETA LOUISE SIMMONS)\, Patrick Frazier (JUDGE OMAR GAFFNEY)\, Phyllis M. Nofts (E.J. LOFGREN)\n(Michael Hardy Photography)\n\n				\n			\n				\n			\n				\n				HARVEY (MAINSTAGE\, April 4 – May 2\, 2026)\nPHOTO 13: Phyllis M. Nofts (E.J. LOFGREN)\, Tod Walker (ELWOOD P. DOWD)\n(Michael Hardy Photography)\n				\n			\n				\n			\n				\n				HARVEY (MAINSTAGE\, April 4 – May 2\, 2026)\nPHOTO 14: BACK ROW: Phyllis M. Nofts (E.J. LOFGREN)\, Patrick Frazier (JUDGE OMAR GAFFNEY)\, Demetri Mack (DUANE WILSON)\, Tod Walker (ELWOOD P. DOWD)\, Jill Prout (RUTH KELLY\, R.N.)\, Aaron Izbicki (LYMAN SANDERSON\, M.D.)\, Judy Jones (MRS. CHAUVENET / BETTY CHUMLEY)\, Aaron Izbicki (LYMAN SANDERSON\, M.D.)\, FRONT: Harriet Whitmyer (VETA LOUISE SIMMONS)\, Talitha Barkow (MYRTLE MAE SIMMONS)\n(Michael Hardy Photography)\n				\n		\n\nCAST:\n\nTalitha Barkow (MYRTLE MAE SIMMONS)\nHarriet Whitmyer (VETA LOUISE SIMMONS)\nTod Walker (ELWOOD P. DOWD)\nJudy Jones (MRS. CHAUVENET / BETTY CHUMLEY)\nJill Prout (RUTH KELLY\, R.N.)\nDemetri Mack (DUANE WILSON)\nAaron Izbicki (LYMAN SANDERSON\, M.D.)\nRobb Tracy (WILLIAM R. CHUMLEY\, M.D.)\nPatrick Frazier (JUDGE OMAR GAFFNEY)\nPhyllis M. Nofts (E.J. LOFGREN)
URL:https://lbplayhouse.org/event/harvey/
CATEGORIES:Mainstage Theatre
ATTACH;FMTTYPE=image/jpeg:https://lbplayhouse.org/wp-content/uploads/2025/07/Harvey-Event-Banner-scaled.jpg
END:VEVENT
BEGIN:VEVENT
DTSTART;TZID=America/Los_Angeles:20260424T200000
DTEND;TZID=America/Los_Angeles:20260523T200000
DTSTAMP:20260425T074108
CREATED:20260129T005626Z
LAST-MODIFIED:20260423T225326Z
UID:10374-1777060800-1779566400@lbplayhouse.org
SUMMARY:POTUS
DESCRIPTION:POTUS\, or\, Behind Every Great Dumbass Are Seven Women Trying to Keep Him Alive\nProduced by the Costa Mesa Playhouse in Collaboration with the Long Beach Playhouse\nPlaying in the Long Beach Playhouse’s Studio Theater\nApril 24 – May 23\, 2026\nBy Selina Fillinger\nDirected by Kathy Paladino and David Rodriguez \nOne four-letter word is about to rock 1600 Pennsylvania Avenue. When the president unwittingly spins a PR nightmare into a global crisis\, the seven brilliant and beleaguered women he relies upon most risk life\, liberty\, and the pursuit of sanity to keep the commander-in-chief out of trouble. A broad\, zany\, old-school comedy that earned three 2022 Tony nominations. Produced by the Costa Mesa Playhouse in Collaboration with the Long Beach Playhouse \nPURCHASE YOUR TICKETS HERE:\nCHOOSE YOUR DATE:\n\nFriday\, April 24\, 8pm – Preview\nSaturday\, April 25\, 8pm – Opening Night and Champagne Gala\nFriday\, May 1\, 8pm\nSaturday\, May 2\, 8pm\nSunday\, May 3\, 2pm\nFriday\, May 8\, 8pm\nSaturday\, May 9\, 8pm\nSunday\, May 10\, 2pm\nFriday\, May 15\, 8pm\nSaturday\, May 16\, 8pm\nSunday\, May 17\, 2pm\nFriday\, May 22\, 8pm\nSaturday\, May 23\, 8pm – Closing Night\n\nAGE LIMIT \nAs a courtesy to our patrons\, it is the policy of the theatre not to admit children under the age of 5. This policy may be altered from time to time based on shows and show content. \nThis Show Contains:\n\nExtreme Adult Language and Content of a Humorous and Outrageous Nature.\nSimulated Smoking \n\nAct One is Approx. 55 mins.\nThere will be a 15 Minute Intermission\nAct Two is Approx. 45 mins\n  \n \nA Big THANK YOU to the Port of Long Beach for Sponsoring our Opening Night Gala! \nPERFORMANCE  PHOTOS:\n\n			\n				\n			\n				\n				POTUS (STUDIO\, April 25 – May 23\, 2026)\nPHOTO 1: Stacy Castiglione (JEAN)\, Pagan Urich (HARRIET)\n(Michael Hardy Photography)\nProduced by the Costa Mesa Playhouse in Collaboration with the Long Beach Playhouse\n				\n			\n				\n			\n				\n				POTUS (STUDIO\, April 25 – May 23\, 2026)\nPHOTO 2: Katrina D. RiChard (MARGARET)\, Jessalyn Waldron (STEPHANIE)\n(Michael Hardy Photography)\nProduced by the Costa Mesa Playhouse in Collaboration with the Long Beach Playhouse\n				\n			\n				\n			\n				\n				POTUS (STUDIO\, April 25 – May 23\, 2026)\nPHOTO 3: Victoria Serra (DUSTY)\, Jessalyn Waldron (STEPHANIE)\n(Michael Hardy Photography)\nProduced by the Costa Mesa Playhouse in Collaboration with the Long Beach Playhouse\n				\n			\n				\n			\n				\n				POTUS (STUDIO\, April 25 – May 23\, 2026)\nPHOTO 4: Stacy Castiglione (JEAN)\, Jessalyn Waldron (STEPHANIE)\, Pagan Urich (HARRIET)\n(Michael Hardy Photography)\nProduced by the Costa Mesa Playhouse in Collaboration with the Long Beach Playhouse\n				\n			\n				\n			\n				\n				POTUS (STUDIO\, April 25 – May 23\, 2026)\nPHOTO 5: Victoria Serra (DUSTY)\, Stacy Castiglione (JEAN)\, Shelby Mayes (BERNADETTE)\n(Michael Hardy Photography)\nProduced by the Costa Mesa Playhouse in Collaboration with the Long Beach Playhouse\n				\n			\n				\n			\n				\n				POTUS (STUDIO\, April 25 – May 23\, 2026)\nPHOTO 6: Shelby Mayes (BERNADETTE)\, Stacy Castiglione (JEAN)\, Victoria Serra (DUSTY)\n(Michael Hardy Photography)\nProduced by the Costa Mesa Playhouse in Collaboration with the Long Beach Playhouse\n				\n			\n				\n			\n				\n				POTUS (STUDIO\, April 25 – May 23\, 2026)\nPHOTO 7: Katherine Galera (CHRIS)\, Katrina D. RiChard (MARGARET)\n(Michael Hardy Photography)\nProduced by the Costa Mesa Playhouse in Collaboration with the Long Beach Playhouse\n				\n			\n				\n			\n				\n				POTUS (STUDIO\, April 25 – May 23\, 2026)\nPHOTO 8: Katrina D. RiChard (MARGARET)\, Katherine Galera (CHRIS)\, Shelby Mayes (BERNADETTE)\, Victoria Serra (DUSTY)\, Stacy Castiglione (JEAN)\, Jessalyn Waldron (STEPHANIE)\, Pagan Urich (HARRIET)\n(Michael Hardy Photography)\nProduced by the Costa Mesa Playhouse in Collaboration with the Long Beach Playhouse\n				\n			\n				\n			\n				\n				POTUS (STUDIO\, April 25 – May 23\, 2026)\nPHOTO 9: Pagan Urich (HARRIET)\, Jessalyn Waldron (STEPHANIE)\, Stacy Castiglione (JEAN)\n(Michael Hardy Photography)\nProduced by the Costa Mesa Playhouse in Collaboration with the Long Beach Playhouse\n				\n			\n				\n			\n				\n				POTUS (STUDIO\, April 25 – May 23\, 2026)\nPHOTO 10: Katherine Galera (CHRIS)\, Shelby Mayes (BERNADETTE)\, Jessalyn Waldron (STEPHANIE)\n(Michael Hardy Photography)\nProduced by the Costa Mesa Playhouse in Collaboration with the Long Beach Playhouse\n				\n			\n				\n			\n				\n				POTUS (STUDIO\, April 25 – May 23\, 2026)\nPHOTO 11: Jessalyn Waldron (STEPHANIE)\, Stacy Castiglione (JEAN)\, Pagan Urich (HARRIET)\n(Michael Hardy Photography)\nProduced by the Costa Mesa Playhouse in Collaboration with the Long Beach Playhouse\n				\n			\n				\n			\n				\n				POTUS (STUDIO\, April 25 – May 23\, 2026)\nPHOTO 12: Shelby Mayes (BERNADETTE)\, Katrina D. RiChard (MARGARET)\n(Michael Hardy Photography)\nProduced by the Costa Mesa Playhouse in Collaboration with the Long Beach Playhouse\n				\n			\n				\n			\n				\n				POTUS (STUDIO\, April 25 – May 23\, 2026)\nPHOTO 13: Jessalyn Waldron (STEPHANIE)\, Victoria Serra (DUSTY)\, Pagan Urich (HARRIET)\, Katherine Galera (CHRIS)\n(Michael Hardy Photography)\nProduced by the Costa Mesa Playhouse in Collaboration with the Long Beach Playhouse\n				\n			\n				\n			\n				\n				POTUS (STUDIO\, April 25 – May 23\, 2026)\nPHOTO 14: BACK: Katherine Galera (CHRIS)\, Shelby Mayes (BERNADETTE)\, Stacy Castiglione (JEAN)\, Pagan Urich (HARRIET)\, MIDDLE: Katrina D. RiChard (MARGARET)\, Victoria Serra (DUSTY)\, FRONT: Jessalyn Waldron (STEPHANIE)\n(Michael Hardy Photography)\nProduced by the Costa Mesa Playhouse in Collaboration with the Long Beach Playhouse\n				\n		\n\nCAST:\n\nPagan Urich (HARRIET)\nStacy Castiglione (JEAN)\nJessalyn Waldron (STEPHANIE)\nVictoria Serra (DUSTY)\nShelby Mayes (BERNADETTE)\nKatherine Galera (CHRIS)\nKatrina D. RiChard (MARGARET)
URL:https://lbplayhouse.org/event/potus/
CATEGORIES:Studio Theatre
ATTACH;FMTTYPE=image/jpeg:https://lbplayhouse.org/wp-content/uploads/2026/01/POTUS-Event-Banner-scaled.jpg
END:VEVENT
END:VCALENDAR